BEGIN:VCALENDAR
VERSION:2.0
PRODID:-//Sabre//Sabre VObject 4.5.8//EN
CALSCALE:GREGORIAN
BEGIN:VEVENT
UID:sabre-vobject-ac4415be-0d92-40a8-940b-fd1d4bc5be3a
DTSTAMP:20260424T052545Z
SUMMARY:Familienmittwoch
DESCRIPTION:https://neuburgpuls.de/familienmittwoch_id52700
DTSTART;TZID=Europe/Berlin:20260909T100000
DURATION:PT30M
END:VEVENT
END:VCALENDAR
