BEGIN:VCALENDAR
VERSION:2.0
PRODID:-//Sabre//Sabre VObject 4.5.8//EN
CALSCALE:GREGORIAN
BEGIN:VEVENT
UID:sabre-vobject-e074cef8-0204-4e3a-b9e0-fae4b8daf7f1
DTSTAMP:20260424T070853Z
SUMMARY:Gelenkersatz bei Arthrose - der Weg zu mehr Lebensqualität
DESCRIPTION:https://neuburgpuls.de/gelenkersatz-bei-arthrose-der-weg-zu-meh
 r-lebensqualitaet_id52656
DTSTART;TZID=Europe/Berlin:20260428T180000
DURATION:PT30M
LOCATION:AMEOS Institut Süd\, Bahnhofstraße 103b\, 86633 Neuburg an der D
 onau
END:VEVENT
END:VCALENDAR
