BEGIN:VCALENDAR
VERSION:2.0
PRODID:-//Sabre//Sabre VObject 4.5.8//EN
CALSCALE:GREGORIAN
BEGIN:VEVENT
UID:sabre-vobject-e27b5817-b370-442f-bfad-20f79e13d04b
DTSTAMP:20260423T172122Z
SUMMARY:Vorfrühling im Naturschutzgebiet Kreut
DESCRIPTION:https://neuburgpuls.de/vorfruehling-im-naturschutzgebiet-kreut_
 id52645
DTSTART;TZID=Europe/Berlin:20260425T140000
DTEND;TZID=Europe/Berlin:20260425T170000
LOCATION:Naturschutzgebiet Kreut
END:VEVENT
END:VCALENDAR
