BEGIN:VCALENDAR
VERSION:2.0
PRODID:-//Sabre//Sabre VObject 4.5.8//EN
CALSCALE:GREGORIAN
BEGIN:VEVENT
UID:sabre-vobject-35735126-d54d-4d4b-8f82-b1fd8913dc90
DTSTAMP:20260421T064025Z
SUMMARY:Ludwig Wright live in der Drogerie
DESCRIPTION:https://neuburgpuls.de/ludwig-wright-live-in-der-drogerie_id526
 43
DTSTART;TZID=Europe/Berlin:20260424T203000
DTEND;TZID=Europe/Berlin:20260424T223000
LOCATION:Die Drogerie – Live Club\, Luitpoldstraße 180 B\, 86633 Neuburg
  an der Donau
END:VEVENT
END:VCALENDAR
