BEGIN:VCALENDAR
VERSION:2.0
PRODID:-//Sabre//Sabre VObject 4.5.8//EN
CALSCALE:GREGORIAN
BEGIN:VEVENT
UID:sabre-vobject-cdb4e0c7-9b65-49af-b9b0-7d5ea74fa625
DTSTAMP:20260422T043945Z
SUMMARY:Freiluft-Training (Gymnastik)
DESCRIPTION:https://www.neuburg-donau.de/rathaus/ausschuesse-und-beiraete/s
 eniorenbeirat/veranstaltungen/freiluft-training-gymnastik_id52571
DTSTART;TZID=Europe/Berlin:20260623T100000
DTEND;TZID=Europe/Berlin:20260623T104500
LOCATION:Bürgerhaus Ostend\, Berliner Straße 164\, 86633 Neuburg an der D
 onau
END:VEVENT
END:VCALENDAR
