BEGIN:VCALENDAR
VERSION:2.0
PRODID:-//Sabre//Sabre VObject 4.5.8//EN
CALSCALE:GREGORIAN
BEGIN:VEVENT
UID:sabre-vobject-d42b8abc-b626-48a8-8a52-a58f258f5556
DTSTAMP:20260422T172240Z
SUMMARY:Boule-Spiel auf dem Volksfestplatz
DESCRIPTION:https://www.neuburg-donau.de/rathaus/ausschuesse-und-beiraete/s
 eniorenbeirat/veranstaltungen/boule-spiel-auf-dem-volksfestplatz_id52561
DTSTART;TZID=Europe/Berlin:20260529T140000
DURATION:PT30M
LOCATION:Volksfestplatz\, Volksfestplatz\, 86633 Neuburg an der Donau
END:VEVENT
END:VCALENDAR
