BEGIN:VCALENDAR
VERSION:2.0
PRODID:-//Sabre//Sabre VObject 4.5.8//EN
CALSCALE:GREGORIAN
BEGIN:VEVENT
UID:sabre-vobject-78d71a0d-7944-44a7-92f4-cde4e0a37699
DTSTAMP:20260422T082821Z
SUMMARY:Wiedersehen mit der Gegenwart - Malerei\, Zeichnung und Skulptur
DESCRIPTION:https://neuburgpuls.de/wiedersehen-mit-der-gegenwart-malerei-ze
 ichnung-und-skulptur_id52548
DTSTART;TZID=Europe/Berlin:20260502T110000
DTEND;TZID=Europe/Berlin:20260502T190000
LOCATION:Städtische Galerie im Rathausfletz\, Karlsplatz A 12\, 86633 Neub
 urg an der Donau
END:VEVENT
END:VCALENDAR
