BEGIN:VCALENDAR
VERSION:2.0
PRODID:-//Sabre//Sabre VObject 4.5.8//EN
CALSCALE:GREGORIAN
BEGIN:VEVENT
UID:sabre-vobject-f767950e-bde4-4b8a-8bbb-d627d806445e
DTSTAMP:20260423T131445Z
SUMMARY:Fledermäuse – Faszinierende Jäger der Nacht
DESCRIPTION:https://neuburgpuls.de/fledermaeuse-faszinierende-jaeger-der-na
 cht_id52490
DTSTART;TZID=Europe/Berlin:20260427T073000
DTEND;TZID=Europe/Berlin:20260427T160000
LOCATION:Landratsamt Neuburg-Schrobenhausen\, Platz-der-Deutschen-Einheit 1
 \, 86633 Neuburg an der Donau
END:VEVENT
END:VCALENDAR
