BEGIN:VCALENDAR
VERSION:2.0
PRODID:-//Sabre//Sabre VObject 4.5.8//EN
CALSCALE:GREGORIAN
BEGIN:VEVENT
UID:sabre-vobject-cb507bf7-43e7-451a-b5ca-84fbe91edab9
DTSTAMP:20260423T131434Z
SUMMARY:Fledermaus-Kasten-Kontrolle
DESCRIPTION:https://neuburgpuls.de/fledermaus-kasten-kontrolle_id52485
DTSTART;TZID=Europe/Berlin:20260523T140000
DURATION:PT30M
END:VEVENT
END:VCALENDAR
