BEGIN:VCALENDAR
VERSION:2.0
PRODID:-//Sabre//Sabre VObject 4.5.8//EN
CALSCALE:GREGORIAN
BEGIN:VEVENT
UID:sabre-vobject-4cafb5ab-13e6-4274-be95-74ce693ce278
DTSTAMP:20260422T095422Z
SUMMARY:Neuburger Nachhaltigkeitsgespräche
DESCRIPTION:https://neuburgpuls.de/neuburger-nachhaltigkeitsgespraeche_id52
 381
DTSTART;TZID=Europe/Berlin:20260421T183000
DTEND;TZID=Europe/Berlin:20260421T200000
LOCATION:THI Campus Neuburg\, An der Hochschule B1\, 86633 Neuburg an der D
 onau
END:VEVENT
END:VCALENDAR
