BEGIN:VCALENDAR
VERSION:2.0
PRODID:-//Sabre//Sabre VObject 4.5.8//EN
CALSCALE:GREGORIAN
BEGIN:VEVENT
UID:sabre-vobject-1e069a6a-a82f-4f5d-bbc7-bd5793b42a85
DTSTAMP:20260424T030532Z
SUMMARY:Kleine Konzerte in der Studienkirche: VoceFestiva-Duo
DESCRIPTION:https://neuburgpuls.de/kleine-konzerte-in-der-studienkirche-voc
 efestiva-duo_id51735
DTSTART;TZID=Europe/Berlin:20260920T190000
DTEND;TZID=Europe/Berlin:20260920T194500
LOCATION:Studienkirche St. Ursula\, Wolfgang-Wilhelm-Platz B 90\, 86633 Neu
 burg
END:VEVENT
END:VCALENDAR
