BEGIN:VCALENDAR
VERSION:2.0
PRODID:-//Sabre//Sabre VObject 4.5.8//EN
CALSCALE:GREGORIAN
BEGIN:VEVENT
UID:sabre-vobject-089e306c-97f0-4072-872a-7b82b9d6648f
DTSTAMP:20260424T041709Z
SUMMARY:Kleine Konzerte in der Studienkirche: m&m's
DESCRIPTION:https://neuburgpuls.de/kleine-konzerte-in-der-studienkirche-m-m
 -s_id51733
DTSTART;TZID=Europe/Berlin:20260913T190000
DTEND;TZID=Europe/Berlin:20260913T194500
LOCATION:Studienkirche St. Ursula\, Wolfgang-Wilhelm-Platz B 90\, 86633 Neu
 burg
END:VEVENT
END:VCALENDAR
