BEGIN:VCALENDAR
VERSION:2.0
PRODID:-//Sabre//Sabre VObject 4.5.8//EN
CALSCALE:GREGORIAN
BEGIN:VEVENT
UID:sabre-vobject-a0cef299-ed65-477a-a66a-0a71d79eaeb4
DTSTAMP:20260424T081103Z
SUMMARY:Kleine Konzerte in der Schlosskapelle: Platerspil
DESCRIPTION:https://neuburgpuls.de/kleine-konzerte-in-der-schlosskapelle-pl
 aterspil_id51731
DTSTART;TZID=Europe/Berlin:20260906T190000
DTEND;TZID=Europe/Berlin:20260906T194500
LOCATION:Schlosskapelle\, Residenzstraße 2\, 86633 Neuburg
END:VEVENT
END:VCALENDAR
