BEGIN:VCALENDAR
VERSION:2.0
PRODID:-//Sabre//Sabre VObject 4.5.8//EN
CALSCALE:GREGORIAN
BEGIN:VEVENT
UID:sabre-vobject-adaac5ba-c671-4b53-94be-ec3748f4c2dc
DTSTAMP:20260423T211748Z
SUMMARY:Radltour des Seniorenbeirats
DESCRIPTION:https://www.neuburg-donau.de/rathaus/ausschuesse-und-beiraete/s
 eniorenbeirat/veranstaltungen/radltour-des-seniorenbeirats_id51652
DTSTART;TZID=Europe/Berlin:20261007T133000
DURATION:PT30M
END:VEVENT
END:VCALENDAR
