BEGIN:VCALENDAR
VERSION:2.0
PRODID:-//Sabre//Sabre VObject 4.5.8//EN
CALSCALE:GREGORIAN
BEGIN:VEVENT
UID:sabre-vobject-2e1a4538-1230-493c-a3ef-d20663668478
DTSTAMP:20260423T131821Z
SUMMARY:Historischer Weihnachtszauber im Stadtmuseum
DESCRIPTION:https://neuburgpuls.de/historischer-weihnachtszauber-im-stadtmu
 seum_id51628
DTSTART;TZID=Europe/Berlin:20261205T150000
DTEND;TZID=Europe/Berlin:20261205T210000
LOCATION:Stadtmuseum Neuburg an der Donau\, Amalienstraße  19\, 86633 Neub
 urg an der Donau
END:VEVENT
END:VCALENDAR
