BEGIN:VCALENDAR
VERSION:2.0
PRODID:-//Sabre//Sabre VObject 4.5.8//EN
CALSCALE:GREGORIAN
BEGIN:VEVENT
UID:sabre-vobject-d1bbf511-b8ec-48a7-9b2d-4191390ea97c
DTSTAMP:20260424T025848Z
SUMMARY:Vortrag im Stadtmuseum
DESCRIPTION:https://neuburgpuls.de/vortrag-im-stadtmuseum_id51617
DTSTART;TZID=Europe/Berlin:20260918T180000
DURATION:PT30M
LOCATION:Stadtmuseum Neuburg an der Donau\, Amalienstraße  19\, 86633 Neub
 urg an der Donau
END:VEVENT
END:VCALENDAR
