BEGIN:VCALENDAR
VERSION:2.0
PRODID:-//Sabre//Sabre VObject 4.5.8//EN
CALSCALE:GREGORIAN
BEGIN:VEVENT
UID:sabre-vobject-168efc8b-91f4-4f9e-8b91-cbd96b275500
DTSTAMP:20260424T041745Z
SUMMARY:Sammeln - Forschen - Bewahren
DESCRIPTION:https://neuburgpuls.de/sammeln-forschen-bewahren_id51481
DTSTART;TZID=Europe/Berlin:20260913T100000
DTEND;TZID=Europe/Berlin:20260913T180000
LOCATION:Stadtmuseum Neuburg an der Donau\, Amalienstraße  19\, 86633 Neub
 urg an der Donau
END:VEVENT
END:VCALENDAR
