BEGIN:VCALENDAR
VERSION:2.0
PRODID:-//Sabre//Sabre VObject 4.5.8//EN
CALSCALE:GREGORIAN
BEGIN:VEVENT
UID:sabre-vobject-eae8c4ec-9daa-4af5-96e4-dc72ed3a5edf
DTSTAMP:20260423T200440Z
SUMMARY:Sammeln - Forschen - Bewahren
DESCRIPTION:https://neuburgpuls.de/sammeln-forschen-bewahren_id51456
DTSTART;TZID=Europe/Berlin:20261010T100000
DTEND;TZID=Europe/Berlin:20261010T180000
LOCATION:Stadtmuseum Neuburg an der Donau\, Amalienstraße  19\, 86633 Neub
 urg an der Donau
END:VEVENT
END:VCALENDAR
