BEGIN:VCALENDAR
VERSION:2.0
PRODID:-//Sabre//Sabre VObject 4.5.8//EN
CALSCALE:GREGORIAN
BEGIN:VEVENT
UID:sabre-vobject-878560a0-dadb-478c-93f5-c6281c959a56
DTSTAMP:20260424T014017Z
SUMMARY:Sammeln - Forschen - Bewahren
DESCRIPTION:https://neuburgpuls.de/sammeln-forschen-bewahren_id51454
DTSTART;TZID=Europe/Berlin:20260926T100000
DTEND;TZID=Europe/Berlin:20260926T180000
LOCATION:Stadtmuseum Neuburg an der Donau\, Amalienstraße  19\, 86633 Neub
 urg an der Donau
END:VEVENT
END:VCALENDAR
