BEGIN:VCALENDAR
VERSION:2.0
PRODID:-//Sabre//Sabre VObject 4.5.8//EN
CALSCALE:GREGORIAN
BEGIN:VEVENT
UID:sabre-vobject-08cd40f7-eea0-46be-9875-551754941d65
DTSTAMP:20260423T211859Z
SUMMARY:Sammeln - Forschen - Bewahren
DESCRIPTION:https://neuburgpuls.de/sammeln-forschen-bewahren_id51427
DTSTART;TZID=Europe/Berlin:20261009T100000
DTEND;TZID=Europe/Berlin:20261009T180000
LOCATION:Stadtmuseum Neuburg an der Donau\, Amalienstraße  19\, 86633 Neub
 urg an der Donau
END:VEVENT
END:VCALENDAR
