BEGIN:VCALENDAR
VERSION:2.0
PRODID:-//Sabre//Sabre VObject 4.5.8//EN
CALSCALE:GREGORIAN
BEGIN:VEVENT
UID:sabre-vobject-c493715e-68dd-47a0-8b17-75da2c16a229
DTSTAMP:20260423T224124Z
SUMMARY:Sammeln - Forschen - Bewahren
DESCRIPTION:https://neuburgpuls.de/sammeln-forschen-bewahren_id51426
DTSTART;TZID=Europe/Berlin:20261002T100000
DTEND;TZID=Europe/Berlin:20261002T180000
LOCATION:Stadtmuseum Neuburg an der Donau\, Amalienstraße  19\, 86633 Neub
 urg an der Donau
END:VEVENT
END:VCALENDAR
