BEGIN:VCALENDAR
VERSION:2.0
PRODID:-//Sabre//Sabre VObject 4.5.8//EN
CALSCALE:GREGORIAN
BEGIN:VEVENT
UID:sabre-vobject-00abaa76-07da-4173-b93d-2f2c43f9029b
DTSTAMP:20260424T001302Z
SUMMARY:Acker Alm Dinner Event - Wald & Wurzel
DESCRIPTION:https://neuburgpuls.de/acker-alm-dinner-event-wald-wurzel_id511
 98
DTSTART;TZID=Europe/Berlin:20261002T173000
DURATION:PT30M
LOCATION:Die Acker Alm\, Am Maschinenring 2\, 86633 Neuburg an der Donau
END:VEVENT
END:VCALENDAR
