BEGIN:VCALENDAR
VERSION:2.0
PRODID:-//Sabre//Sabre VObject 4.5.8//EN
CALSCALE:GREGORIAN
BEGIN:VEVENT
UID:sabre-vobject-b6a9f4c0-22b6-43e9-9dfe-5699ae304d4c
DTSTAMP:20260424T080459Z
SUMMARY:Boule-Spiel auf dem Volksfestplatz
DESCRIPTION:https://www.neuburg-donau.de/rathaus/ausschuesse-und-beiraete/s
 eniorenbeirat/veranstaltungen/boule-spiel-auf-dem-volksfestplatz_id51129
DTSTART;TZID=Europe/Berlin:20260508T140000
DURATION:PT30M
LOCATION:Volksfestplatz\, Volksfestplatz\, 86633 Neuburg an der Donau
END:VEVENT
END:VCALENDAR
