BEGIN:VCALENDAR
VERSION:2.0
PRODID:-//Sabre//Sabre VObject 4.5.8//EN
CALSCALE:GREGORIAN
BEGIN:VEVENT
UID:sabre-vobject-9b247a6d-51ef-4410-8631-e780460c9499
DTSTAMP:20260423T144052Z
SUMMARY:Offener Alleinerziehenden-Treff „Starkes Solo“
DESCRIPTION:https://neuburgpuls.de/offener-alleinerziehenden-treff-starkes-
 solo_id51103
DTSTART;TZID=Europe/Berlin:20261127T160000
DTEND;TZID=Europe/Berlin:20261127T180000
LOCATION:Bürgerhaus Schwalbanger\, Richard-Wagner-Straße 6\, 86633 Neubur
 g an der Donau
END:VEVENT
END:VCALENDAR
