BEGIN:VCALENDAR
VERSION:2.0
PRODID:-//Sabre//Sabre VObject 4.5.8//EN
CALSCALE:GREGORIAN
BEGIN:VEVENT
UID:sabre-vobject-cc41b415-0090-4a67-9825-616c8ba6d7ff
DTSTAMP:20260423T104910Z
SUMMARY:Licht wird alles\, was ich fasse 
DESCRIPTION:https://neuburgpuls.de/licht-wird-alles-was-ich-fasse_id50943
DTSTART;TZID=Europe/Berlin:20260313T170000
DTEND;TZID=Europe/Berlin:20260313T190000
LOCATION:Städtische Galerie im Rathausfletz\, Karlsplatz A 12\, 86633 Neub
 urg an der Donau
END:VEVENT
END:VCALENDAR
