BEGIN:VCALENDAR
VERSION:2.0
PRODID:-//Sabre//Sabre VObject 4.5.8//EN
CALSCALE:GREGORIAN
BEGIN:VEVENT
UID:sabre-vobject-8df24e11-be6c-4326-a88a-d2a73d73a6ea
DTSTAMP:20260423T093924Z
SUMMARY:Licht wird alles\, was ich fasse 
DESCRIPTION:https://neuburgpuls.de/licht-wird-alles-was-ich-fasse_id50938
DTSTART;TZID=Europe/Berlin:20260312T170000
DTEND;TZID=Europe/Berlin:20260312T190000
LOCATION:Städtische Galerie im Rathausfletz\, Karlsplatz A 12\, 86633 Neub
 urg an der Donau
END:VEVENT
END:VCALENDAR
