BEGIN:VCALENDAR
VERSION:2.0
PRODID:-//Sabre//Sabre VObject 4.5.8//EN
CALSCALE:GREGORIAN
BEGIN:VEVENT
UID:sabre-vobject-5796dc8c-3446-47f2-ac27-147b7eb218eb
DTSTAMP:20260422T112645Z
SUMMARY:Boule-Spiel auf dem Karlsplatz
DESCRIPTION:https://www.neuburg-donau.de/rathaus/ausschuesse-und-beiraete/s
 eniorenbeirat/veranstaltungen/boule-spiel-auf-dem-karlsplatz_id50552
DTSTART;TZID=Europe/Berlin:20260410T140000
DURATION:PT30M
LOCATION:Historischer Karlsplatz\, Karlsplatz\, 86633 Neuburg an der Donau
END:VEVENT
END:VCALENDAR
