BEGIN:VCALENDAR
VERSION:2.0
PRODID:-//Sabre//Sabre VObject 4.5.8//EN
CALSCALE:GREGORIAN
BEGIN:VEVENT
UID:sabre-vobject-4fe21014-98f5-4f86-b014-adf41eb55f99
DTSTAMP:20260424T015056Z
SUMMARY:Rundwanderung über Dezenacker und St. Wolfgang
DESCRIPTION:https://www.neuburg-donau.de/rathaus/ausschuesse-und-beiraete/s
 eniorenbeirat/veranstaltungen/rundwanderung-ueber-dezenacker-und-st-wolfga
 ng_id50324
DTSTART;TZID=Europe/Berlin:20260922T124500
DURATION:PT30M
END:VEVENT
END:VCALENDAR
