BEGIN:VCALENDAR
VERSION:2.0
PRODID:-//Sabre//Sabre VObject 4.5.8//EN
CALSCALE:GREGORIAN
BEGIN:VEVENT
UID:sabre-vobject-06476a41-1953-42f2-88d4-aaabe8ee9c72
DTSTAMP:20260423T122540Z
SUMMARY:Jugendensemble Neuburg
DESCRIPTION:https://neuburgpuls.de/jugendensemble-neuburg_id50167
DTSTART;TZID=Europe/Berlin:20251213T180000
DURATION:PT30M
LOCATION:Schrannenplatz\, Schrannenplatz\, 86633 Neuburg an der Donau
END:VEVENT
END:VCALENDAR
