BEGIN:VCALENDAR
VERSION:2.0
PRODID:-//Sabre//Sabre VObject 4.5.8//EN
CALSCALE:GREGORIAN
BEGIN:VEVENT
UID:sabre-vobject-de142fa7-fdc6-456d-9a3e-e079bb7a2e6e
DTSTAMP:20260423T224033Z
SUMMARY: Provinzialbibliotheksführung
DESCRIPTION:https://neuburgpuls.de/provinzialbibliotheksfuehrung_id49894
DTSTART;TZID=Europe/Berlin:20260930T143000
DTEND;TZID=Europe/Berlin:20260930T151500
LOCATION:Provinzialbibliothek\, Karlsplatz 17\, 86633 Neuburg an der Donau
END:VEVENT
END:VCALENDAR
