BEGIN:VCALENDAR
VERSION:2.0
PRODID:-//Sabre//Sabre VObject 4.5.8//EN
CALSCALE:GREGORIAN
BEGIN:VEVENT
UID:sabre-vobject-637f04c1-c77a-4ab8-b659-4942cb8e751b
DTSTAMP:20260424T030419Z
SUMMARY: Provinzialbibliotheksführung
DESCRIPTION:https://neuburgpuls.de/provinzialbibliotheksfuehrung_id49893
DTSTART;TZID=Europe/Berlin:20260923T143000
DTEND;TZID=Europe/Berlin:20260923T151500
LOCATION:Provinzialbibliothek\, Karlsplatz 17\, 86633 Neuburg an der Donau
END:VEVENT
END:VCALENDAR
