BEGIN:VCALENDAR
VERSION:2.0
PRODID:-//Sabre//Sabre VObject 4.5.8//EN
CALSCALE:GREGORIAN
BEGIN:VEVENT
UID:sabre-vobject-bcf3bbd6-95d5-4295-988b-50acf6cca379
DTSTAMP:20260424T030455Z
SUMMARY: Provinzialbibliotheksführung
DESCRIPTION:https://neuburgpuls.de/provinzialbibliotheksfuehrung_id49892
DTSTART;TZID=Europe/Berlin:20260916T143000
DTEND;TZID=Europe/Berlin:20260916T151500
LOCATION:Provinzialbibliothek\, Karlsplatz 17\, 86633 Neuburg an der Donau
END:VEVENT
END:VCALENDAR
