BEGIN:VCALENDAR
VERSION:2.0
PRODID:-//Sabre//Sabre VObject 4.5.8//EN
CALSCALE:GREGORIAN
BEGIN:VEVENT
UID:sabre-vobject-7dea7c43-f33d-4818-b6b7-b4ef8d6c71ac
DTSTAMP:20260424T025843Z
SUMMARY:Vulkane - Explosive Ventile der Erde 
DESCRIPTION:https://neuburgpuls.de/vulkane-explosive-ventile-der-erde_id496
 04
DTSTART;TZID=Europe/Berlin:20261003T100000
DTEND;TZID=Europe/Berlin:20261003T170000
LOCATION:Ottheinrichturm\, \, 86633 Neuburg an der Donau
END:VEVENT
END:VCALENDAR
