BEGIN:VCALENDAR
VERSION:2.0
PRODID:-//Sabre//Sabre VObject 4.5.8//EN
CALSCALE:GREGORIAN
BEGIN:VEVENT
UID:sabre-vobject-f0331cdf-3dca-453d-b27d-5df388be75d5
DTSTAMP:20260423T173155Z
SUMMARY:Vulkane - Explosive Ventile der Erde 
DESCRIPTION:https://neuburgpuls.de/vulkane-explosive-ventile-der-erde_id495
 85
DTSTART;TZID=Europe/Berlin:20261025T100000
DTEND;TZID=Europe/Berlin:20261025T170000
LOCATION:Ottheinrichturm\, \, 86633 Neuburg an der Donau
END:VEVENT
END:VCALENDAR
