BEGIN:VCALENDAR
VERSION:2.0
PRODID:-//Sabre//Sabre VObject 4.5.8//EN
CALSCALE:GREGORIAN
BEGIN:VEVENT
UID:sabre-vobject-6a5a010f-64a6-431f-97e0-202f975c2076
DTSTAMP:20260423T081650Z
SUMMARY:Neuburger Schlossweihnacht
DESCRIPTION:https://neuburgpuls.de/neuburger-schlossweihnacht_id49495
DTSTART;TZID=Europe/Berlin:20261213T110000
DTEND;TZID=Europe/Berlin:20261213T200000
LOCATION:Residenzschloss Neuburg\, Residenzstraße 2\, 86633 Neuburg an der
  Donau
END:VEVENT
END:VCALENDAR
