BEGIN:VCALENDAR
VERSION:2.0
PRODID:-//Sabre//Sabre VObject 4.5.8//EN
CALSCALE:GREGORIAN
BEGIN:VEVENT
UID:sabre-vobject-f6cfe8ca-41cb-4b7f-b7a7-efec8876f29c
DTSTAMP:20260423T081810Z
SUMMARY:Neuburger Schlossweihnacht
DESCRIPTION:https://neuburgpuls.de/neuburger-schlossweihnacht_id49493
DTSTART;TZID=Europe/Berlin:20261211T160000
DTEND;TZID=Europe/Berlin:20261211T210000
LOCATION:Residenzschloss Neuburg\, Residenzstraße 2\, 86633 Neuburg an der
  Donau
END:VEVENT
END:VCALENDAR
