BEGIN:VCALENDAR
VERSION:2.0
PRODID:-//Sabre//Sabre VObject 4.5.8//EN
CALSCALE:GREGORIAN
BEGIN:VEVENT
UID:sabre-vobject-6363c357-2755-4564-9c83-886e7f2a21a1
DTSTAMP:20260423T104839Z
SUMMARY:Neuburger Schlossweihnacht
DESCRIPTION:https://neuburgpuls.de/neuburger-schlossweihnacht_id49491
DTSTART;TZID=Europe/Berlin:20261204T160000
DTEND;TZID=Europe/Berlin:20261204T210000
LOCATION:Residenzschloss Neuburg\, Residenzstraße 2\, 86633 Neuburg an der
  Donau
END:VEVENT
END:VCALENDAR
