BEGIN:VCALENDAR
VERSION:2.0
PRODID:-//Sabre//Sabre VObject 4.5.8//EN
CALSCALE:GREGORIAN
BEGIN:VEVENT
UID:sabre-vobject-3930f8f2-97ff-49cf-9c17-0a7f2c19ba4e
DTSTAMP:20260423T105521Z
SUMMARY:Weihnachtsmarkt auf dem Schrannenplatz
DESCRIPTION:https://neuburgpuls.de/weihnachtsmarkt-auf-dem-schrannenplatz_i
 d49480
DTSTART;TZID=Europe/Berlin:20261221T150000
DTEND;TZID=Europe/Berlin:20261221T190000
LOCATION:Schrannenplatz\, Schrannenplatz\, 86633 Neuburg an der Donau
END:VEVENT
END:VCALENDAR
