BEGIN:VCALENDAR
VERSION:2.0
PRODID:-//Sabre//Sabre VObject 4.5.8//EN
CALSCALE:GREGORIAN
BEGIN:VEVENT
UID:sabre-vobject-6f7534b0-54e5-4ad8-b6de-412f897f9b71
DTSTAMP:20260423T132727Z
SUMMARY:Weihnachtsmarkt auf dem Schrannenplatz
DESCRIPTION:https://neuburgpuls.de/weihnachtsmarkt-auf-dem-schrannenplatz_i
 d49477
DTSTART;TZID=Europe/Berlin:20261130T150000
DTEND;TZID=Europe/Berlin:20261130T190000
LOCATION:Schrannenplatz\, Schrannenplatz\, 86633 Neuburg an der Donau
END:VEVENT
END:VCALENDAR
