BEGIN:VCALENDAR
VERSION:2.0
PRODID:-//Sabre//Sabre VObject 4.5.8//EN
CALSCALE:GREGORIAN
BEGIN:VEVENT
UID:sabre-vobject-5a1a7546-d675-4ac9-81e5-8deb2e3cbef0
DTSTAMP:20260423T093918Z
SUMMARY:Weihnachtsmarkt auf dem Schrannenplatz
DESCRIPTION:https://neuburgpuls.de/weihnachtsmarkt-auf-dem-schrannenplatz_i
 d49476
DTSTART;TZID=Europe/Berlin:20261220T120000
DTEND;TZID=Europe/Berlin:20261220T200000
LOCATION:Schrannenplatz\, Schrannenplatz\, 86633 Neuburg an der Donau
END:VEVENT
END:VCALENDAR
