BEGIN:VCALENDAR
VERSION:2.0
PRODID:-//Sabre//Sabre VObject 4.5.8//EN
CALSCALE:GREGORIAN
BEGIN:VEVENT
UID:sabre-vobject-cc813d76-dc75-48fc-a9de-06d0ee17fbcb
DTSTAMP:20260423T081709Z
SUMMARY:Weihnachtsmarkt auf dem Schrannenplatz
DESCRIPTION:https://neuburgpuls.de/weihnachtsmarkt-auf-dem-schrannenplatz_i
 d49475
DTSTART;TZID=Europe/Berlin:20261213T120000
DTEND;TZID=Europe/Berlin:20261213T200000
LOCATION:Schrannenplatz\, Schrannenplatz\, 86633 Neuburg an der Donau
END:VEVENT
END:VCALENDAR
