BEGIN:VCALENDAR
VERSION:2.0
PRODID:-//Sabre//Sabre VObject 4.5.8//EN
CALSCALE:GREGORIAN
BEGIN:VEVENT
UID:sabre-vobject-ed0f6440-69c9-4217-8971-27786a7b59ee
DTSTAMP:20260423T132748Z
SUMMARY:Weihnachtsmarkt auf dem Schrannenplatz
DESCRIPTION:https://neuburgpuls.de/weihnachtsmarkt-auf-dem-schrannenplatz_i
 d49462
DTSTART;TZID=Europe/Berlin:20261203T150000
DTEND;TZID=Europe/Berlin:20261203T200000
LOCATION:Schrannenplatz\, Schrannenplatz\, 86633 Neuburg an der Donau
END:VEVENT
END:VCALENDAR
