BEGIN:VCALENDAR
VERSION:2.0
PRODID:-//Sabre//Sabre VObject 4.5.8//EN
CALSCALE:GREGORIAN
BEGIN:VEVENT
UID:sabre-vobject-0cc573e3-1b3f-4b53-9983-148fc04670cc
DTSTAMP:20260423T081814Z
SUMMARY:Wochenmarkt
DESCRIPTION:https://neuburgpuls.de/wochenmarkt_id49373
DTSTART;TZID=Europe/Berlin:20261212T063000
DTEND;TZID=Europe/Berlin:20261212T123000
LOCATION:Schrannenplatz\, Schrannenplatz\, 86633 Neuburg an der Donau
END:VEVENT
END:VCALENDAR
