BEGIN:VCALENDAR
VERSION:2.0
PRODID:-//Sabre//Sabre VObject 4.5.8//EN
CALSCALE:GREGORIAN
BEGIN:VEVENT
UID:sabre-vobject-4c2c0c55-df1c-4079-b2b6-3dbcbca403f8
DTSTAMP:20260423T172923Z
SUMMARY:Wochenmarkt
DESCRIPTION:https://neuburgpuls.de/wochenmarkt_id49371
DTSTART;TZID=Europe/Berlin:20261128T063000
DTEND;TZID=Europe/Berlin:20261128T123000
LOCATION:Schrannenplatz\, Schrannenplatz\, 86633 Neuburg an der Donau
END:VEVENT
END:VCALENDAR
