BEGIN:VCALENDAR
VERSION:2.0
PRODID:-//Sabre//Sabre VObject 4.5.8//EN
CALSCALE:GREGORIAN
BEGIN:VEVENT
UID:sabre-vobject-70be52c2-6aa5-4c26-b0b2-d94d92f413c2
DTSTAMP:20260423T144420Z
SUMMARY:Wochenmarkt
DESCRIPTION:https://neuburgpuls.de/wochenmarkt_id49370
DTSTART;TZID=Europe/Berlin:20261121T063000
DTEND;TZID=Europe/Berlin:20261121T123000
LOCATION:Schrannenplatz\, Schrannenplatz\, 86633 Neuburg an der Donau
END:VEVENT
END:VCALENDAR
