BEGIN:VCALENDAR
VERSION:2.0
PRODID:-//Sabre//Sabre VObject 4.5.8//EN
CALSCALE:GREGORIAN
BEGIN:VEVENT
UID:sabre-vobject-e8ab0129-5aa1-45c8-b479-f4c5e9f1078b
DTSTAMP:20260423T105532Z
SUMMARY:Wochenmarkt
DESCRIPTION:https://neuburgpuls.de/wochenmarkt_id49322
DTSTART;TZID=Europe/Berlin:20261223T063000
DTEND;TZID=Europe/Berlin:20261223T123000
LOCATION:Schrannenplatz\, Schrannenplatz\, 86633 Neuburg an der Donau
END:VEVENT
END:VCALENDAR
