BEGIN:VCALENDAR
VERSION:2.0
PRODID:-//Sabre//Sabre VObject 4.5.8//EN
CALSCALE:GREGORIAN
BEGIN:VEVENT
UID:sabre-vobject-1e25ec17-bc6c-49c0-ad2d-6613ef79b47e
DTSTAMP:20260423T144506Z
SUMMARY:Wochenmarkt
DESCRIPTION:https://neuburgpuls.de/wochenmarkt_id49318
DTSTART;TZID=Europe/Berlin:20261125T063000
DTEND;TZID=Europe/Berlin:20261125T123000
LOCATION:Schrannenplatz\, Schrannenplatz\, 86633 Neuburg an der Donau
END:VEVENT
END:VCALENDAR
