BEGIN:VCALENDAR
VERSION:2.0
PRODID:-//Sabre//Sabre VObject 4.5.8//EN
CALSCALE:GREGORIAN
BEGIN:VEVENT
UID:sabre-vobject-b0725427-8d21-4fe6-9db4-1fe309ea4179
DTSTAMP:20260423T224018Z
SUMMARY:Wochenmarkt
DESCRIPTION:https://neuburgpuls.de/wochenmarkt_id49310
DTSTART;TZID=Europe/Berlin:20260930T063000
DTEND;TZID=Europe/Berlin:20260930T123000
LOCATION:Schrannenplatz\, Schrannenplatz\, 86633 Neuburg an der Donau
END:VEVENT
END:VCALENDAR
