BEGIN:VCALENDAR
VERSION:2.0
PRODID:-//Sabre//Sabre VObject 4.5.8//EN
CALSCALE:GREGORIAN
BEGIN:VEVENT
UID:sabre-vobject-15a09566-ae30-4f0c-8246-e6e2ed57330b
DTSTAMP:20260424T025244Z
SUMMARY:Wochenmarkt
DESCRIPTION:https://neuburgpuls.de/wochenmarkt_id49308
DTSTART;TZID=Europe/Berlin:20260916T063000
DTEND;TZID=Europe/Berlin:20260916T123000
LOCATION:Schrannenplatz\, Schrannenplatz\, 86633 Neuburg an der Donau
END:VEVENT
END:VCALENDAR
