BEGIN:VCALENDAR
VERSION:2.0
PRODID:-//Sabre//Sabre VObject 4.5.8//EN
CALSCALE:GREGORIAN
BEGIN:VEVENT
UID:sabre-vobject-c020bee3-44df-451d-9b3b-6829db3d82e8
DTSTAMP:20260424T030450Z
SUMMARY:Jahresausstellung des Neuburger Kunstkreises e.V.
DESCRIPTION:https://neuburgpuls.de/jahresausstellung-des-neuburger-kunstkre
 ises-e-v_id49002
DTSTART;TZID=Europe/Berlin:20260919T100000
DTEND;TZID=Europe/Berlin:20260919T190000
LOCATION:Städtische Galerie im Fürstengang und Rathausfletz\, \, 86633 Ne
 uburg an der Donau
END:VEVENT
END:VCALENDAR
